BEGIN:VCALENDAR
VERSION:2.0
PRODID:-//wp-events-plugin.com//7.2.3.1//EN
TZID:America/Sao_Paulo
X-WR-TIMEZONE:America/Sao_Paulo
BEGIN:VEVENT
UID:49@jesuitasbrasil.org.br
DTSTART;TZID=America/Sao_Paulo:20250925T110000
DTEND;TZID=America/Sao_Paulo:20250925T120000
DTSTAMP:20250922T151534Z
URL:https://jesuitasbrasil.org.br/eventos/webinar-campanha-da-vida-religio
 sa-pela-justica-climatica-rumo-a-cop30-transformando-a-esperanca-em-acao/
SUMMARY:Webinar "Campanha da Vida Religiosa pela Justiça Climática\, tran
 sformando a esperança em ação"
DESCRIPTION:O Secretariado de Justiça Social e Ecologia da Companhia de Je
 sus (SJES) promoverá um webinar especial para apresentar a Campanha da Vi
 da Religiosa pela Justiça Climática\, uma iniciativa que convida pessoas
 \, comunidades e instituições a se engajarem ativamente na luta por just
 iça socioambiental em preparação para a 30ª Conferência das Nações 
 Unidas sobre Mudanças Climáticas (COP30)\, que acontecerá no mês de no
 vembro\, em Belém (PA).\n\nO encontro virtual acontecerá nesta quinta-fe
 ira (25)\, às 11h (horário de Brasília)\, pela plataforma Zoom. Durante
  o evento\, serão apresentados os objetivos da campanha\, suas ações pr
 evistas e formas concretas de participação para religiosos\, leigos e to
 dos os interessados em promover a ecologia integral.\n\nA iniciativa está
  em sintonia com os apelos do Papa Francisco e a missão da Companhia de J
 esus de cuidar da Casa Comum\, especialmente em tempos de emergência clim
 ática.\n\nTransmissão via plataforma: Zoom\nLink de acesso: https://bit.
 ly/webinarCPALrumboalaCOP30\nID da reunião: 858 1386 6534\nCódigo de ace
 sso: 885259
ATTACH;FMTTYPE=image/jpeg:https://jesuitasbrasil.org.br/wp-content/uploads
 /2025/09/Webinar-Campana-Ecojesuit-Cop-30-rb9j3natmcdc0u5cmsajaxzigpupoqk5
 cx2s2zz438.png
CATEGORIES:JUSTIÇA SOCIOAMBIENTAL
END:VEVENT
BEGIN:VTIMEZONE
TZID:America/Sao_Paulo
X-LIC-LOCATION:America/Sao_Paulo
BEGIN:STANDARD
DTSTART:20240925T110000
TZOFFSETFROM:-0300
TZOFFSETTO:-0300
TZNAME:-03
END:STANDARD
END:VTIMEZONE
END:VCALENDAR